BEGIN:VCALENDAR
VERSION:2.0
PRODID:-//CERN//INDICO//EN
BEGIN:VEVENT
SUMMARY:Akadémiai munka mesterséges intelligenciával - hatékonyság\, 
 etika és prompt-stratégiák az oktatói gyakorlatban [Továbbképzés/ok
 tatás]
DTSTART:20260420T140000Z
DTEND:20260420T153000Z
DTSTAMP:20260419T153900Z
UID:indico-event-5949@ludevent.uni-nke.hu
CONTACT:NKE.LOI@uni-nke.hu\;+36 1 432 9000 /20752
DESCRIPTION:A képzés során az akadémiai adatszakértői megközelíté
 sen keresztül tekintjük át az LLM-ek (pl. ChatGPT) használatának „t
 ízparancsolatát”. A résztvevők megismerik a professzionális akadém
 iai prompt-olás technikáit\, az írott szövegek manipulálásának és 
 ellenőrzésének módszereit\, valamint a mesterséges intelligencia etik
 us alkalmazásának kereteit. A kurzus gyakorlati útmutatást ad a jegyze
 tkészítés\, a szakirodalmi vázlatgenerálás és a hallgatói dolgozat
 ok MI-támogatott értékelésének folyamataihoz\, kitérve az EU AI Act 
 vonatkozó szabályozására is.\nFelhívjuk szíves figyelmüket\, hogy a
  képzés tartalmában megegyezik a 2026. február 16-i alkalommal. \nA k
 épzés oktatója: Dr. Petruska Ferenc (HHK)\nSaját laptop használata ja
 vasolt!\nA képzés formája: jelenléti.\nA képzésen résztvevők maxim
 um létszáma: 35 fő.\nA részvétel regisztrációhoz kötött\, határi
 dő: 2026. április 13.\nVárjuk szeretettel!\n \n\nhttps://ludevent.uni-
 nke.hu/event/5949/
LOCATION:Oktatási Központ/4. emelet-413. Szeminárium terem - O-413 (Okt
 atási Központ)
URL:https://ludevent.uni-nke.hu/event/5949/
END:VEVENT
END:VCALENDAR
