BEGIN:VCALENDAR
VERSION:2.0
PRODID:-//CERN//INDICO//EN
BEGIN:VEVENT
SUMMARY:NotebookLM a felsőoktatásban [Továbbképzés/oktatás]
DTSTART:20260413T120000Z
DTEND:20260413T133000Z
DTSTAMP:20260419T153900Z
UID:indico-event-5954@ludevent.uni-nke.hu
CONTACT:NKE.LOI@uni-nke.hu\;+36 1 432 9000 /20752
DESCRIPTION:Ez a 90 perces interaktív workshop bemutatja\, miként válha
 t a Google mesterséges intelligencia alapú jegyzetelője a kutatás és 
 a tananyagfejlesztés hatékony segédtársává. A résztvevők megtanulj
 ák\, hogyan alakíthatják saját forrásaikat (PDF-ek\, prezentációk\,
  weboldalak) strukturált tudásbázissá\, amelyből az AI segítségéve
 l pillanatok alatt készíthetnek vázlatokat\, kvízeket vagy akár eduka
 tív podcastokat. A képzés végére az oktatók képessé válnak a Note
 bookLM magabiztos használatára\, amivel jelentősen csökkenthetik az ad
 minisztratív terheiket és személyre szabottabb támogatást nyújthatna
 k hallgatóiknak.\nFelhívjuk szíves figyelmüket\, hogy a képzés tarta
 lmában megegyezik a 2026. február 24-i alkalommal. \nA képzés oktató
 ja: Papp Éva \nA képzés formája: jelenléti.\nA képzésen résztvev
 ők maximum létszáma: 20 fő.\nA részvétel regisztrációhoz kötött\
 , határidő: 2026. április 6.\nVárjuk szeretettel!\n \n\nhttps://ludev
 ent.uni-nke.hu/event/5954/
LOCATION:Oktatási Központ/1. emelet-117. SZG Labor (Oktatási Központ)
URL:https://ludevent.uni-nke.hu/event/5954/
END:VEVENT
END:VCALENDAR
