BEGIN:VCALENDAR
VERSION:2.0
PRODID:-//CERN//INDICO//EN
BEGIN:VEVENT
SUMMARY:Hatékony tesztkészítés Moodle-ben – kérdésbanktól a vizsg
 áig [Továbbképzés/oktatás]
DTSTART:20260414T100000Z
DTEND:20260414T113000Z
DTSTAMP:20260419T154000Z
UID:indico-event-5957@ludevent.uni-nke.hu
CONTACT:NKE.LOI@uni-nke.hu\;+36 1 432 9000 /20752
DESCRIPTION:A képzés gyakorlati megoldásokat kínál a Moodle kérdésb
 ankjára épülő tesztkészítésre\, az automatizált értékelésre\, a
  személyre szabott visszajelzésekre\, valamint a mesterséges intelligen
 cia korában felmerülő vizsgáztatási kihívások kezelésére.\nEz a k
 épzés azoknak az oktatóknak szól\,- akik már rendelkeznek kérdésban
 kkal\, vagy ilyet terveznek használni\,- akik Moodle-ben zárthelyit\, vi
 zsgát vagy nagy létszámú tesztet tartanak\,- akik szeretnék automatiz
 álni az értékelést\,- akik szeretnék csökkenteni a csalás lehetős
 égét\,- akik szeretnék tudatosabban kezelni a visszajelzéseket és pon
 tozást.\nElőfeltétel: kérdésbank-alapismeret (vagy Kérdéskészíté
 s és kérdésbank a Moodle-ben – az alapoktól az MI-alapú megoldások
 ig elvégzése.)\nA képzés oktatója: Dr. László Gábor (ÁNTK)\nA ké
 pzés formája: jelenléti.\nA képzésen résztvevők maximum létszáma:
  15 fő.\nA részvétel regisztrációhoz kötött\, határidő: 2026. áp
 rilis 7.\nVárjuk szeretettel!\n \n\nhttps://ludevent.uni-nke.hu/event/59
 57/
LOCATION:Oktatási Központ/2. emelet-203. SZG Labor (Oktatási Központ)
URL:https://ludevent.uni-nke.hu/event/5957/
END:VEVENT
END:VCALENDAR
