BEGIN:VCALENDAR
VERSION:2.0
PRODID:-//CERN//INDICO//EN
BEGIN:VEVENT
SUMMARY:A szónoklattantól a TED-beszédekig: retorikai technikák a nyil
 vános szerepléshez [Továbbképzés/oktatás]
DTSTART:20260410T080000Z
DTEND:20260410T093000Z
DTSTAMP:20260419T154000Z
UID:indico-event-5971@ludevent.uni-nke.hu
CONTACT:NKE.LOI@uni-nke.hu\;+36 1 432 9000 /20752
DESCRIPTION:Nem elég figyelemfelkeltő\, nem elég frappáns\, nem elég 
 emlékezetes. Gyakran ezek jellemzik az előadó beszédét a megfelelő e
 lőadás-technikák hiányában. Egy jó előadásra nincs tökéletes rec
 ept\, mégis számos olyan módszer létezik\, amely segíti a szónok kar
 izmatikus színpadi jelenlétét. A képzés célja gyakorlati tippeket é
 s jótanácsokat adni mindazon résztvevőknek\, akik retorikai eszköztá
 rukat kívánják fejleszteni\, illetve komfortosabbak szeretnének lenni 
 színpadi helyzetekben. Szó lesz a jó és rossz előadóról\, beszédke
 retezésről\, népszerű meggyőzési technikákról\, és érvelési hib
 ákról.\nFelhívjuk szíves figyelmüket\, hogy a képzés tartalmában m
 egegyezik a 2026. március 27-i alkalommal. \nA képzés oktatója: Szab
 ó Kincső (NITK)\nA képzés formája: jelenléti.\nA képzésen résztve
 vők maximum létszáma: 20 fő.\nA részvétel regisztrációhoz kötött
 \, határidő: 2026. április 1.\nVárjuk szeretettel!\n \n\nhttps://lude
 vent.uni-nke.hu/event/5971/
LOCATION:Oktatási Központ/1. emelet-123. Kisterem - O-123 (Oktatási Kö
 zpont)
URL:https://ludevent.uni-nke.hu/event/5971/
END:VEVENT
END:VCALENDAR
