BEGIN:VCALENDAR
VERSION:2.0
PRODID:-//CERN//INDICO//EN
BEGIN:VEVENT
SUMMARY:A tanulás társadalmi dimenziói a 21. században [Továbbképzé
 s/oktatás]
DTSTART:20260414T080000Z
DTEND:20260414T093000Z
DTSTAMP:20260419T153800Z
UID:indico-event-6063@ludevent.uni-nke.hu
CONTACT:NKE.LOI@uni-nke.hu\;+36 1 432 9000 /20752
DESCRIPTION:A képzés a tanulás társadalmi\, kulturális és gazdasági
  szerepét elemzi a 21. század gyorsan átalakuló környezetében. Rész
 letesen tárgyalja a tehetséggondozás és az élethosszig tartó tanulá
 s szerepét a kortárs tanulási kultúrák formálásában\, valamint eze
 k hatását a társadalmi mobilitásra\, az esélyegyenlőségre és az in
 novációra. A képzés keretében a résztvevők három eltérő társada
 lmi modell összehasonlító elemzésén keresztül mélyíthetik el ismer
 eteiket a tanulás intézményesülésének\, legitimációjának és tár
 sadalmi beágyazottságának következményeiről. A kurzus célja\, hogy 
 elméleti és reflexív keretet biztosítson az oktatók számára a tanul
 ás sokdimenziós értelmezéséhez\, és rávilágítson arra\, miért ki
 emelten fontos a felsőoktatási tanulási ökoszisztémák tudatos fejles
 ztése a fenntartható társadalmi és gazdasági fejlődés érdekében.\
 nKérjük\, interneteléréssel rendelkező mobiltelefonjukat hozzák magu
 kkal.\nA képzés oktatója: Dr. Dominek Dalma Lilla (ÁNTK)\nA képzésen
  résztvevők maximum létszáma: 20 fő. \nA képzés formája: jelenlé
 ti.\nA részvétel regisztrációhoz kötött\, határidő: április 7. \
 nVárjuk szeretettel! \n \n\nhttps://ludevent.uni-nke.hu/event/6063/
LOCATION:Oktatási Központ/1. emelet-120 Szeminárium terem - O-120 (Okta
 tási Központ)
URL:https://ludevent.uni-nke.hu/event/6063/
END:VEVENT
END:VCALENDAR
