BEGIN:VCALENDAR
VERSION:2.0
PRODID:-//CERN//INDICO//EN
BEGIN:VEVENT
SUMMARY:China’s economic presence in the Balkans (Public lecture - Dr. N
 enad Stekic - Ludovika Scholars Program) [Pontszerző: 2 pont]
DTSTART:20260421T120000Z
DTEND:20260421T133000Z
DTSTAMP:20260424T201000Z
UID:indico-event-6087@ludevent.uni-nke.hu
CONTACT:jli@uni-nke.hu
DESCRIPTION:Nyilvános előadás tartása a Ludovika Scholars Programban.\
 n\n\nhttps://ludevent.uni-nke.hu/event/6087/
LOCATION:Oktatási Központ/4. emelet-406. Kisterem - O-406 (Oktatási Kö
 zpont)
URL:https://ludevent.uni-nke.hu/event/6087/
END:VEVENT
END:VCALENDAR
