BEGIN:VCALENDAR
VERSION:2.0
PRODID:-//CERN//INDICO//EN
BEGIN:VEVENT
SUMMARY:The Future University in Central and Eastern Europe – könyvbemu
 tató [Pontszerző: 1 pont]
DTSTART:20260415T120000Z
DTEND:20260415T134500Z
DTSTAMP:20260419T153900Z
UID:indico-event-6210@ludevent.uni-nke.hu
CONTACT:Dora.Szilvia@uni-nke.hu\;+36 1 432 9000 /20280\; +36301552125
DESCRIPTION:A rendezvény középpontjában Rozita Dimova szerkesztett kö
 tete\, The Future University in Central and Eastern Europe – Building an
 d Dismantling the Ivory Pyramid áll\, amely a felsőoktatás jövőjét v
 izsgálja közép- és kelet-európai nézőpontból. A bemutató arra ker
 esi a választ\, hogyan alakul át az egyetem szerepe a technológiai vál
 tozások\, az online oktatás térnyerése\, valamint a társadalmi és po
 litikai kihívások hatására. A kötet külön figyelmet fordít arra\, 
 miként formálják ezek a folyamatok a tudástermelést\, az egyetemi str
 uktúrákat és az oktatás társadalmi küldetését. Az esemény lehető
 séget teremt arra\, hogy a résztvevők betekintést kapjanak a régió f
 elsőoktatásának sajátos dilemmáiba és jövőbeli lehetőségeibe. A 
 beszélgetés így nemcsak egy könyv bemutatása\, hanem egy tágabb gond
 olkodásra hívó fórum is az egyetemek jövőjéről.\nMinden érdeklőd
 őt szeretettel várunk!\nA rendezvény kollégiumi pontszerző esemény\,
  a pontok száma: 1 pont. \n \n\nhttps://ludevent.uni-nke.hu/event/6210/
LOCATION:Ludovika Szárnyépület/Földszint-John Lukacs Társalgó (Ludov
 ika Szárnyépület)
URL:https://ludevent.uni-nke.hu/event/6210/
END:VEVENT
END:VCALENDAR
