BEGIN:VCALENDAR
VERSION:2.0
PRODID:-//CERN//INDICO//EN
BEGIN:VEVENT
SUMMARY:'A "politikatudomány" története a 18-19. századi Magyarország
 on - Eszme- és tudománytörténeti perspektívák' - konferencia [Pontsz
 erző: 2 pont]
DTSTART:20260423T080000Z
DTEND:20260423T140000Z
DTSTAMP:20260424T135100Z
UID:indico-event-6215@ludevent.uni-nke.hu
CONTACT:busa.zsuzsanna@uni-nke.hu\;(30) 316 4404
DESCRIPTION:\nA konferencia célja alapvetően kettős: részben empirikus
 \, részben elméleti problémákat tárgyal szorosan tudománytörténeti
  perspektívában. Egyrészt annak a kérdését vizsgálja\, hogy a kora 
 újkori és 19. századi Magyar Királyság felsőoktatási intézményeib
 en a rendelkzésre álló források és a kevés számú szakirodalmi kuta
 tás fényében tulajdonképpen mit értettek a szóban forgó tárgy elő
 adói a "politica/politika" studiuma alatt. Másrészt\, ezzel szoros öss
 zefüggésben\, a konferencia előadói arra is hangsúlyosan reflektálna
 k\, hogy az így feltárt tudásanyag tematikai és módszertani szempontb
 ól miben és mennyiben van átfedésben mindazzal\, amelyet a 20. század
  második felében politikatudomány/politológia elnevezés alatt szokás
  érteni és oktatni.\nProgram: \n09:45 Regisztráció\n10:00 Köszöntő\
 , megnyitó - Dr. Pap Milán \n10:15 – 12:30 – Szekció I.: Genealógi
 ák és rendszerképződés\nSzabó Béla: A politica mint egyetemi diszci
 plína a 17. századi német egyetemeken. Egy rövid virágkor nyomai a K
 árpát-medencei peregrinusok disputatióiban\nPetrasovszky Anna: A termé
 szetjog mint a politikai tudás korai intézményes kerete Magyarországon
  (18–19. század)\nBodnár-Király Tibor: Politik és Polizey – A „p
 olitikatudomány” oktatásának duális modellje a 18. század végi Mag
 yarországon\n12:15 Diszkusszió\n12:30 Szünet \n13:30 – 15:45 – Szek
 ció II.: A “politika(tudomány)” mint alrendszer\nLajtai L. László:
  A „politika” (országászat) mint fogalom és akadémiai praxis Hunfa
 lvy Pál életművében\nKoi Gyula: A hazai Polizeiwissenschaft (államtud
 omány) közigazgatás-tudományi jellegű művelése és az önálló hon
 i közigazgatási jogtudomány határvidékei. Vélekedések a vármegyér
 ől és a szolgabírói hivatalról Zsoldos Ignác\, Puky Károly és ifj.
  Palugyay Imre munkásságában\nMiru György: A politika elemei: államfo
 rmatan\, alkotmánytörténet és összehasonlító alkotmánytan Schvarcz
  Gyula munkásságában\n15:45 – 16:00 – Diszkusszió\, Zárszó\nA re
 ndezvény kollégiumi pontszerző esemény\, a pontok száma: 2.\n \n\nht
 tps://ludevent.uni-nke.hu/event/6215/
LOCATION:Ludovika Szárnyépület/Földszint-John Lukacs Társalgó (Ludov
 ika Szárnyépület)
URL:https://ludevent.uni-nke.hu/event/6215/
END:VEVENT
END:VCALENDAR
