BEGIN:VCALENDAR
VERSION:2.0
PRODID:-//CERN//INDICO//EN
BEGIN:VEVENT
SUMMARY:Intercultural Workshop [Pontszerző: 2 pont]
DTSTART:20260428T120000Z
DTEND:20260428T140000Z
DTSTAMP:20260421T003300Z
UID:indico-event-6221@ludevent.uni-nke.hu
CONTACT:kitoltendo@uni-nke.hu
DESCRIPTION:\nThe Ludovika Welcome Center Department of the International 
 Office\, Ludovika University of Public Service invites you to the next Sti
 pendium Hungaricum Intercultural Workshop. Embark on a cultural journey wi
 th us\, explore other cultures\, connect with students from various cultur
 al backgrounds and broaden your horizons.\nDate: 28 April 2026\, 14:00-16:
 00\nVenue: John Lukács Lounge\, Side Building (ground-floor).\nKeynote s
 peakers: \n \n\nRama Fahed Khalil - Palestine: Where Tradition\, Identit
 y\, and Hospitality Come Alive\n\n \n\nAngelina Delova - North Macedonia:
  Small Country\, Big Soul\n\n \nThe language of the event is English.\nWe
  kindly ask you to make your registration at your earliest convenience.\nR
 egistration is open until 2:00 p.m. on 27 April 2026\, or until the capaci
 ty of the room is full.\nThe International Office of the LUPS looks forwar
 d to welcoming you to the event. \n\nhttps://ludevent.uni-nke.hu/event/62
 21/
LOCATION:Ludovika Szárnyépület/Földszint-John Lukacs Társalgó (Ludov
 ika Szárnyépület)
URL:https://ludevent.uni-nke.hu/event/6221/
END:VEVENT
END:VCALENDAR
