BEGIN:VCALENDAR
VERSION:2.0
PRODID:-//CERN//INDICO//EN
BEGIN:VEVENT
SUMMARY:A Magyar Tudományos Akadémia katona tagjai és Az Országos Tisz
 ti Kaszinó története és működésének tanulságai c. könyvek szakma
 i bemutatója
DTSTART:20260422T120000Z
DTEND:20260422T140000Z
DTSTAMP:20260421T141400Z
UID:indico-event-6348@ludevent.uni-nke.hu
CONTACT:horvath.noemi@uni-nke.hu
DESCRIPTION:A Zrínyi Kiadó gondozásában nemrégiben megjelent kötetek
  bemutatója az Egyetem meghívott szakmai közössége számára\, közö
 s szakmai kerekasztal-beszélgetéssel. A nyilvános bemutatók már korá
 bban megtörténtek\, a fókusz a szakmai jellegű eszmecsere.\n\nhttps://
 ludevent.uni-nke.hu/event/6348/
LOCATION:2. emelet-221. Csesznák Benő altábornagy terem/Ludovika Főép
 ület (Ludovika Főépület)
URL:https://ludevent.uni-nke.hu/event/6348/
END:VEVENT
END:VCALENDAR
